BEGIN:VCALENDAR
VERSION:2.0
PRODID:-//jEvents 2.0 for Joomla//EN
CALSCALE:GREGORIAN
METHOD:PUBLISH
BEGIN:VTIMEZONE
TZID:Europe/Berlin
END:VTIMEZONE
BEGIN:VEVENT
UID:fe09a90fdf9bd067f61505773dec83c9
CATEGORIES:Termine
CREATED:19700101T010000
SUMMARY:Jubiläums-Fest 100 Jahre OWG
LOCATION:St. Johännser - Markgröningen
DESCRIPTION:<p><strong><span style="color: #145f48; font-weight: bold; font-size: 14px;
 ">Jubiläums-Fest 100 Jahre OWG in den Weinbergen am 25.+26. Juli 2026</span
 ><br /></strong></p><p><strong>Nähere Informationen folgen</strong></p>
DTSTAMP:20260424T082249
DTSTART;TZID=Europe/Berlin;VALUE=DATE:20260725
DTEND;TZID=Europe/Berlin;VALUE=DATE:20260726
SEQUENCE:0
RRULE:FREQ=DAILY;UNTIL=20260726T000000Z;INTERVAL=1
TRANSP:OPAQUE
END:VEVENT
END:VCALENDAR